BEGIN:VCALENDAR
VERSION:2.0
PRODID:-//Tukios.com/
BEGIN:VEVENT
UID:08c9fe57-ba52-4982-b428-44ce1f489211@www.helke.com
DTSTAMP:20260420T185231Z
DTSTART:20260425T160000Z
DTEND:20260425T170000Z
SUMMARY:Funeral Service
DESCRIPTION:
URL:https://www.helke.com/obituaries/berdina-hilmershausen
LOCATION: 501 Stewart Ave  Wausau WI 54401
GEO:44.9586979;-89.6424482
END:VEVENT
END:VCALENDAR