BEGIN:VCALENDAR
VERSION:2.0
PRODID:-//Tukios.com/
BEGIN:VEVENT
UID:55505a31-e64e-4952-a8ee-18392274d5d1@www.helke.com
DTSTAMP:20260420T185309Z
DTSTART:20260424T143000Z
DTEND:20260424T160000Z
SUMMARY:Visitation
DESCRIPTION:
URL:https://www.helke.com/obituaries/berdina-hilmershausen
LOCATION: 501 Stewart Ave  Wausau WI 54401
GEO:44.9586979;-89.6424482
END:VEVENT
END:VCALENDAR